BEGIN:VCALENDAR
VERSION:2.0
PRODID:-//Te Kāhui o Taranaki Iwi - ECPv6.10.1.1//NONSGML v1.0//EN
CALSCALE:GREGORIAN
METHOD:PUBLISH
X-WR-CALNAME:Te Kāhui o Taranaki Iwi
X-ORIGINAL-URL:https://taranaki.iwi.nz
X-WR-CALDESC:Events for Te Kāhui o Taranaki Iwi
REFRESH-INTERVAL;VALUE=DURATION:PT1H
X-Robots-Tag:noindex
X-PUBLISHED-TTL:PT1H
BEGIN:VTIMEZONE
TZID:Pacific/Auckland
BEGIN:STANDARD
TZOFFSETFROM:+1300
TZOFFSETTO:+1200
TZNAME:NZST
DTSTART:20190406T140000
END:STANDARD
BEGIN:DAYLIGHT
TZOFFSETFROM:+1200
TZOFFSETTO:+1300
TZNAME:NZDT
DTSTART:20190928T140000
END:DAYLIGHT
END:VTIMEZONE
BEGIN:VEVENT
DTSTART;TZID=Pacific/Auckland:20190905T100000
DTEND;TZID=Pacific/Auckland:20190905T120000
DTSTAMP:20260426T080214
CREATED:20190805T233937Z
LAST-MODIFIED:20190814T051432Z
UID:2758-1567677600-1567684800@taranaki.iwi.nz
SUMMARY:Whakapapa Kōmiti Hui
DESCRIPTION:
URL:https://taranaki.iwi.nz/event/whakapapa-komiti-hui/
LOCATION:Novotel Hotel\, Cnr Hobson and Leach St\, New Plymouth\, Taranaki\, 4310
ORGANIZER;CN="Te K%C4%81hui o Taranaki":MAILTO:admin@taranaki.iwi.nz
END:VEVENT
END:VCALENDAR