BEGIN:VCALENDAR
VERSION:2.0
PRODID:-//Te Kāhui o Taranaki Iwi - ECPv6.10.1.1//NONSGML v1.0//EN
CALSCALE:GREGORIAN
METHOD:PUBLISH
X-ORIGINAL-URL:https://taranaki.iwi.nz
X-WR-CALDESC:Events for Te Kāhui o Taranaki Iwi
REFRESH-INTERVAL;VALUE=DURATION:PT1H
X-Robots-Tag:noindex
X-PUBLISHED-TTL:PT1H
BEGIN:VTIMEZONE
TZID:UTC
BEGIN:STANDARD
TZOFFSETFROM:+0000
TZOFFSETTO:+0000
TZNAME:UTC
DTSTART:20180101T000000
END:STANDARD
TZID:Pacific/Auckland
BEGIN:STANDARD
TZOFFSETFROM:+1300
TZOFFSETTO:+1200
TZNAME:NZST
DTSTART:20180331T140000
END:STANDARD
BEGIN:DAYLIGHT
TZOFFSETFROM:+1200
TZOFFSETTO:+1300
TZNAME:NZDT
DTSTART:20180929T140000
END:DAYLIGHT
END:VTIMEZONE
BEGIN:VEVENT
DTSTART;TZID=UTC:20180923T100000
DTEND;TZID=UTC:20180923T150000
DTSTAMP:20260420T094352
CREATED:20180806T133102Z
LAST-MODIFIED:20180913T153715Z
UID:2133-1537696800-1537714800@taranaki.iwi.nz
SUMMARY:Annual General Meeting 2018
DESCRIPTION:View and Download the Te Kāhui o Taranaki Trust Annual Report 2018\n(Web resolution PDF file – 14mb) \nView Annual Report 2018\n  \n\nThe Annual General Meeting of Te Kāhui o Taranaki Trust will be held on \nSunday 23rd September 2018 at Toroānui Marae\, Parihaka Pā\, Taranaki commencing at 10.00am. \nAGENDA \n\nKarakia\nApologies\nMinutes of 2017 Taranaki Iwi AGM\nChairperson Reports\n(a) Te Kāhui o Taranaki and Taranaki Iwi Charitable Trust (b) Taranaki Iwi Holdings LP and Taranaki Iwi Fisheries Ltd (c) Taranaki Iwi Claims Management Ltd\nFinancial Report\n(a) Appointment of Auditor (b) Change of Financial Year\nTe Kāhui o Taranaki Trust Election Result\nGeneral Business\n\nFor further information please contact Te Kāhui o Taranaki Trust office\, Cnr Bayly Road & Ocean View Parade\, Moturoa\, New Plymouth\, Ph (06) 751 4285.
URL:https://taranaki.iwi.nz/event/annual-general-meeting-2018/
LOCATION:Toroānui Marae\, 249b Mid Parihaka Road\, Pungarehu\, Taranaki\, New Zealand
CATEGORIES:AGM,Event
ATTACH;FMTTYPE=image/jpeg:https://taranaki.iwi.nz/wp-content/uploads/2018/08/agm-2018.jpg
END:VEVENT
BEGIN:VEVENT
DTSTART;TZID=UTC:20180808T170000
DTEND;TZID=UTC:20180914T170000
DTSTAMP:20260420T094352
CREATED:20180806T094012Z
LAST-MODIFIED:20180807T100335Z
UID:2128-1533747600-1536944400@taranaki.iwi.nz
SUMMARY:Trustee Election 2018 - Vote Now!
DESCRIPTION:VOTE ONLINE NOW!\nIf you have received your user pin and password\, either in the post or via email\, please visit the following link to vote online – https://ivote.electionz.com/e/tkot2018 \nIMPORTANT: You must be a registered member of Te Kāhui o Taranaki Trust to vote. If you’re not registered but want to vote in the Election please contact the Returning Officer – Anthony Morton – for more info (contact details below). \n  \n\n  \nTrustee Election – Candiates Confirmed\nNominations for the 2018 Trustee election for Te Kāhui o Taranaki Trust (the Trust) closed at 5pm on Thursday 19 July 2018. The following nominations were received for the two vacancies on the Trust: \n\nKING Jacqui\nRITAI Damon Paul Waru-Te-Puu\nTUUTA Raymond\n\nAs there were more nominations received than vacancies\, an election will be held by postal and internet voting to determine the Trustees. \nVoting papers will be posted to adult registered members of the Trust from Wednesday 8 August 2018. \nVoting will close at 5pm on Friday 14 September 2018. \nAnthony Morton\nReturning Officer – Te Kāhui o Taranaki Trust\nPO Box 3138\nChristchurch\n0800 666 030\niro@electionz.com \n20 July 2018
URL:https://taranaki.iwi.nz/event/trustee-election-2018-vote-now/
LOCATION:Taranaki
CATEGORIES:Election,Event,Te Kāhui Taiohi o Taranaki Iwi
ATTACH;FMTTYPE=image/png:https://taranaki.iwi.nz/wp-content/uploads/2018/06/election-2018-rs.png
END:VEVENT
BEGIN:VEVENT
DTSTART;TZID=UTC:20180707T100000
DTEND;TZID=UTC:20180708T140000
DTSTAMP:20260420T094352
CREATED:20180625T132620Z
LAST-MODIFIED:20180701T140700Z
UID:2031-1530957600-1531058400@taranaki.iwi.nz
SUMMARY:Te Kāhui Taiohi o Taranaki Iwi - Wānanga 7-8 July 2018
DESCRIPTION:Te Kāhui Taiohi o Taranaki Wānanga\n7-8 July 2018\nPuniho Pā\, South Road\, Warea\n_________________________________________________________ \nWhat: Calling all our Taiohi | Rangatahi to come together to develop the connections with our Iwi\, to strengthen the connections with our hapū\, to enhance the connections with each other and to be an active member in our Iwi space \nWho: Targeted for Taranaki Iwi Taiohi | Rangatahi and pākeke (adults) aged 16-40 (but does not exclude) \nWhen: 10:00am Saturday 7 to Sunday 8 July 2018 2:00pm\nPowhiri at 10:00am \nWhere: Puniho Pā\, South Road\, Warea \nRegistration: Contact the Taranaki Iwi office on 06 7514285\, email Angie Walters on angie@taranaki.iwi.nz to request\, fill in and return the ‘registration form’ by Wednesday 4 July 2018 \nCost: There is NO cost to attend \n  \n\nTo download the programme for the wānanga click here.
URL:https://taranaki.iwi.nz/event/te-kahui-taiohi-o-taranaki-iwi-wananga-7-8-july-2018/
LOCATION:Novotel\, New Plymouth\, Corner of Hobson &\, Leach St\, New Plymouth\, New Zealand\, 4312\, New Zealand
CATEGORIES:Event,Te Kāhui Taiohi o Taranaki Iwi,Wānanga
ATTACH;FMTTYPE=image/png:https://taranaki.iwi.nz/wp-content/uploads/2018/06/Taiohi-POSTER-Wananga-3.png
ORGANIZER;CN="Te K%C4%81hui o Taranaki":MAILTO:admin@taranaki.iwi.nz
END:VEVENT
BEGIN:VEVENT
DTSTART;TZID=UTC:20180526T100000
DTEND;TZID=UTC:20180526T123000
DTSTAMP:20260420T094352
CREATED:20180501T103515Z
LAST-MODIFIED:20180501T103850Z
UID:2015-1527328800-1527337800@taranaki.iwi.nz
SUMMARY:Orimupiko Reserves Trust AGM - 26 May 2018
DESCRIPTION:Orimupiko Reserves Trust AGM\nOf the following reservations. \nOpen to all whānau with an interest in the following land blocks: \n\nOrimupiko Pt 12 (Marae)\nOrimupiko Pa Sec 32 BLK1X (Urupa)\nOrimupiko 1 (Land)\n\n26 May 2018 @10am\nOrimupiko Marae\nEltham Road\nOpunake \nAgenda\nMihi/Karakia\nApologies\nPrevious Minutes\nMatters arising\nFinancial support\nChairs report\nUrupa/Land report\nGeneral business\nElection of new trustees (2 or 5\, Beneficiaries’ input) \nJ Jones – Secretary \nShared kai at 12.30pm
URL:https://taranaki.iwi.nz/event/orimupiko-reserves-trust-agm-26-may-2018/
LOCATION:Orimupiko Marae\, 3611 Eltham Road\, Opunake\, Taranaki\, 4682\, New Zealand
CATEGORIES:AGM,Event
ATTACH;FMTTYPE=image/jpeg:https://taranaki.iwi.nz/wp-content/uploads/2018/01/orimupiko.jpg
END:VEVENT
BEGIN:VEVENT
DTSTART;TZID=Pacific/Auckland:20180414T080000
DTEND;TZID=Pacific/Auckland:20180415T170000
DTSTAMP:20260420T094352
CREATED:20180208T085716Z
LAST-MODIFIED:20180221T113101Z
UID:1944-1523692800-1523811600@taranaki.iwi.nz
SUMMARY:Te Kāhui Taiohi o Taranaki Iwi - Wānanga April 2018
DESCRIPTION:Te Kāhui Taiohi o Taranaki Wānanga\n14-15 April 2018\nOrimupiko Marae\, 3611 Eltham Road\, Opunake\n_________________________________________________________ \nWhat: Calling all our Taiohi | Rangatahi to come together to develop the\nconnections with our Iwi\, to strengthen the connections with our\nhapū\, to enhance the connections with each other and to be an active\nmember in our Iwi space \nWho: Targeted for Taranaki Iwi Taiohi | Rangatahi and pākeke (adults) aged\n16-40 (but does not exclude) \nWhen: 10:00am Saturday 14 to Sunday 15 April 2018 3:00pm\nPowhiri at 10:00am \nWhere: Orimupiko Marae\, 3611 Eltham Road\, Opunake\n(5 minutes south of Opunake) \nRegistration: Contact the Taranaki Iwi office on 06 7514285\, email Angie Walters on\nangie@taranaki.iwi.nz to request\, fill in and return the ‘registration\nform’ by Friday 23th March 2018 \nCost: There is NO cost to attend
URL:https://taranaki.iwi.nz/event/te-kahui-taiohi-o-taranaki-iwi-wananga-april-2018/
LOCATION:Orimupiko Marae\, 3611 Eltham Road\, Opunake\, Taranaki\, 4682\, New Zealand
CATEGORIES:Event,Te Kāhui Taiohi o Taranaki Iwi,Wānanga
ATTACH;FMTTYPE=image/png:https://taranaki.iwi.nz/wp-content/uploads/2018/02/Taiohi-POSTER-Wananga-2a-social.png
ORGANIZER;CN="Te K%C4%81hui o Taranaki":MAILTO:admin@taranaki.iwi.nz
END:VEVENT
BEGIN:VEVENT
DTSTART;TZID=UTC:20180217T160000
DTEND;TZID=UTC:20180217T193000
DTSTAMP:20260420T094352
CREATED:20180124T230302Z
LAST-MODIFIED:20180213T134609Z
UID:1844-1518883200-1518895800@taranaki.iwi.nz
SUMMARY:Taranaki Iwi Tiripoua
DESCRIPTION:A celebration to mark the One Year Anniversary of our settlement. \nLOTS OF FUN ACTIVITIES FOR THE WHĀNAU!\nBouncy castle\, kemu Māori\, Amazing Race\, LIVE music and BBQ \nWHAT TO BRING?\nSnacks\, picnic blanket\, towel\, togs\, drink bottle\, sunscreen & hat \n  \nWhakatau/karakia – 4.00pm\nMain kai provided – 5.30pm \nFor more information please contact the office on 06 751 4285 – Office hours: 9.00am-5.00pm Mon-Fri
URL:https://taranaki.iwi.nz/event/taranaki-iwi-tiripoua/
LOCATION:Corbett Park\, Oākura\, 1084 South Road\, SH45\, Oākura\, Taranaki\, New Zealand
CATEGORIES:Event,Taranaki Iwi Celebration
ATTACH;FMTTYPE=image/png:https://taranaki.iwi.nz/wp-content/uploads/2018/01/A4-Flyer-Tiripoua-lo-res.png
ORGANIZER;CN="Te K%C4%81hui o Taranaki":MAILTO:admin@taranaki.iwi.nz
END:VEVENT
END:VCALENDAR