BEGIN:VCALENDAR
VERSION:2.0
PRODID:-//Te Kāhui o Taranaki Iwi - ECPv6.10.1.1//NONSGML v1.0//EN
CALSCALE:GREGORIAN
METHOD:PUBLISH
X-ORIGINAL-URL:https://taranaki.iwi.nz
X-WR-CALDESC:Events for Te Kāhui o Taranaki Iwi
REFRESH-INTERVAL;VALUE=DURATION:PT1H
X-Robots-Tag:noindex
X-PUBLISHED-TTL:PT1H
BEGIN:VTIMEZONE
TZID:Pacific/Auckland
BEGIN:STANDARD
TZOFFSETFROM:+1300
TZOFFSETTO:+1200
TZNAME:NZST
DTSTART:20190406T140000
END:STANDARD
BEGIN:DAYLIGHT
TZOFFSETFROM:+1200
TZOFFSETTO:+1300
TZNAME:NZDT
DTSTART:20190928T140000
END:DAYLIGHT
BEGIN:STANDARD
TZOFFSETFROM:+1300
TZOFFSETTO:+1200
TZNAME:NZST
DTSTART:20200404T140000
END:STANDARD
BEGIN:DAYLIGHT
TZOFFSETFROM:+1200
TZOFFSETTO:+1300
TZNAME:NZDT
DTSTART:20200926T140000
END:DAYLIGHT
END:VTIMEZONE
BEGIN:VEVENT
DTSTART;TZID=Pacific/Auckland:20191104T080000
DTEND;TZID=Pacific/Auckland:20191204T170000
DTSTAMP:20260426T042719
CREATED:20191031T233503Z
LAST-MODIFIED:20191106T214823Z
UID:2998-1572854400-1575478800@taranaki.iwi.nz
SUMMARY:Voting Opens - 2019 Trustee Elections
DESCRIPTION:Nominations have now closed for the 2019 Trustee election for Te Kāhui o Taranaki Trust (the Trust).  The confirmed candidates for the four (4) available positions are: \n\nDene Ainsworth\nDaniel Harrison\nLeanne Horo\nTane Manu\nFay Mulligan\nDennis Ngāwhare; and\nAroaro Tamati\n\nAs there were more nominations received than vacancies\, an election will be held by postal and internet voting to confirm the Trustees.  Voting papers will be posted to registered members of the Trust from Monday 4 November 2019. Voting will close at 5pm on Wednesday 4 December 2019. Candidate information can be found here. \n \nClick here to Vote. \n \n \nElection enquiries including requests for additional or replacement voter packs should be directed to the Election Helpline Ph 0800 666 041: Anthony Morton Returning Officer – Te Kāhui o Taranaki Trust P O Box 3138\, Christchurch Election Helpline Ph: 0800 666 041 or email  iro@electionz.com
URL:https://taranaki.iwi.nz/event/voting-opens-2019-trustee-elections/
END:VEVENT
BEGIN:VEVENT
DTSTART;TZID=Pacific/Auckland:20191123T080000
DTEND;TZID=Pacific/Auckland:20191124T170000
DTSTAMP:20260426T042719
CREATED:20190617T224126Z
LAST-MODIFIED:20190617T224126Z
UID:2609-1574496000-1574614800@taranaki.iwi.nz
SUMMARY:Te Moungaroa - Taranaki Iwi Kapa Haka - Wānanga 23-24 November 2019
DESCRIPTION:Te Moungaroa – Taranaki Iwi Kapa Haka wānanga for Tū Mai Campaign 2019 \nNoho marae at Toroānui – 23-24 November 2019 \nFor more info contact Puna Wano-Bryant at puna@taranaki.iwi.nz
URL:https://taranaki.iwi.nz/event/te-moungaroa-taranaki-iwi-kapa-haka-wananga-23-24-november-2019/
LOCATION:Toroānui Marae\, 249b Mid Parihaka Road\, Pungarehu\, Taranaki\, New Zealand
CATEGORIES:Te Moungaroa Wānanga
END:VEVENT
BEGIN:VEVENT
DTSTART;TZID=Pacific/Auckland:20191124T140000
DTEND;TZID=Pacific/Auckland:20191124T170000
DTSTAMP:20260426T042719
CREATED:20190617T231156Z
LAST-MODIFIED:20190617T231156Z
UID:2622-1574604000-1574614800@taranaki.iwi.nz
SUMMARY:Marae Pā Taratī Hui - 24 November 2019
DESCRIPTION:Regular Marae Pā Taratī Hui for trustees of Marae Pā across Taranaki Iwi rohe. \nFor more info contact the office on 06 751 4285 or email admin@taranaki.iwi.nz
URL:https://taranaki.iwi.nz/event/marae-pa-tarati-hui-24-november-2019/
LOCATION:Toroānui Marae\, 249b Mid Parihaka Road\, Pungarehu\, Taranaki\, New Zealand
CATEGORIES:Marae Pā Taratī Hui
END:VEVENT
BEGIN:VEVENT
DTSTART;TZID=Pacific/Auckland:20191129T080000
DTEND;TZID=Pacific/Auckland:20191201T170000
DTSTAMP:20260426T042719
CREATED:20190617T225654Z
LAST-MODIFIED:20190618T024321Z
UID:2611-1575014400-1575219600@taranaki.iwi.nz
SUMMARY:Taranaki Tū Mai 2019
DESCRIPTION:Taranaki Tū Mai 2019 is hosted by Ngāti Maru and will be held in the Inglewood area\, Taranaki. \nFor more information about Taranaki Tū Mai visit the Taranaki Tū Mai 2019 Facebook page – https://facebook.com \nFor more information about Taranaki Iwi involvement in Taranaki Tū Mai contact us on 06 751 4285 or email angie@taranaki.iwi.nz \n  \n\nComplete a Taranaki Tū Mai 2019 Uri Registration Form Online below –
URL:https://taranaki.iwi.nz/event/taranaki-tu-mai-2019/
LOCATION:Vertical Horizons\, 558 Everett Rd\, Inglewood\, Taranaki\, 4388\, New Zealand
CATEGORIES:Event,Te Moungaroa Wānanga
END:VEVENT
BEGIN:VEVENT
DTSTART;TZID=Pacific/Auckland:20191207T100000
DTEND;TZID=Pacific/Auckland:20191207T170000
DTSTAMP:20260426T042719
CREATED:20190617T232847Z
LAST-MODIFIED:20191031T233133Z
UID:2628-1575712800-1575738000@taranaki.iwi.nz
SUMMARY:Te Kāhui o Taranaki Annual General Meeting 2019
DESCRIPTION:E te iwi! \nThe Annual General Meeting of the Taranaki Iwi Trust will be held on Saturday 7th December 2019 at Te Niho o Te Atiawa\, Parāhuka Marae\, Mid Parihaka Rd Pungarehu commencing at 10.00am.\n\nAGENDA\n1. Karakia\n2. Apologies\n3. Minutes of 2018 Taranaki Iwi Trust AGM\n4. Chairperson Reports\n(a) Te Kāhui o Taranaki\n(b) Taranaki Iwi Holdings LP\n(c) Taranaki Iwi Fisheries Ltd\n(d) Taranaki Iwi Claims Management Ltd\n5. Financial Report\n– Appointment of Auditor\n6. Te Kāhui o Taranaki Trust Election Result\n7. General Business\n\nFor further information please contact Te Kāhui o Taranaki Trust office\, Cnr Bayly Road and Ocean View Parade\, Moturoa\, New Plymouth\, Ph (06) 751 4285.
URL:https://taranaki.iwi.nz/event/te-kahui-o-taranaki-annual-general-meeting-2019/
CATEGORIES:AGM
ORGANIZER;CN="Te K%C4%81hui o Taranaki":MAILTO:admin@taranaki.iwi.nz
END:VEVENT
BEGIN:VEVENT
DTSTART;TZID=Pacific/Auckland:20191213T110000
DTEND;TZID=Pacific/Auckland:20191213T140000
DTSTAMP:20260426T042719
CREATED:20190617T232441Z
LAST-MODIFIED:20191031T232848Z
UID:2626-1576234800-1576245600@taranaki.iwi.nz
SUMMARY:Pāhake Christmas Luncheon 2019
DESCRIPTION:E te iwi! E ngā pāhake! \nThe Pāhake Christmas Luncheon will be held at Sandfords Event Centre\, Opunake 0n 13 December 2019 @ 11am \nMore information about the Luncheon event will be posted shortly.
URL:https://taranaki.iwi.nz/event/pahake-christmas-luncheon-2019/
LOCATION:Sandfords Event Centre\, 156 Tasman St\, Opunake\, Taranaki\, 4616\, New Zealand
CATEGORIES:Pāhake Christmas Luncheon
ORGANIZER;CN="Te K%C4%81hui o Taranaki":MAILTO:admin@taranaki.iwi.nz
END:VEVENT
BEGIN:VEVENT
DTSTART;VALUE=DATE:20200223
DTEND;VALUE=DATE:20200224
DTSTAMP:20260426T042719
CREATED:20191212T050803Z
LAST-MODIFIED:20191212T050803Z
UID:3053-1582416000-1582502399@taranaki.iwi.nz
SUMMARY:Tiripoua
DESCRIPTION:Save the date – details to be confirmed
URL:https://taranaki.iwi.nz/event/tiripoua/
LOCATION:Novotel Hotel\, Cnr Hobson and Leach St\, New Plymouth\, Taranaki\, 4310
CATEGORIES:Event,Taranaki Iwi Celebration
END:VEVENT
BEGIN:VEVENT
DTSTART;TZID=Pacific/Auckland:20200329T100000
DTEND;TZID=Pacific/Auckland:20200329T130000
DTSTAMP:20260426T042719
CREATED:20191212T050901Z
LAST-MODIFIED:20200220T212337Z
UID:3050-1585476000-1585486800@taranaki.iwi.nz
SUMMARY:Special General Meeting (SGM)
DESCRIPTION:The Special General Meeting of Te Kāhui o Taranaki Trust will be held @ the Novotell Hotel\, Cnr of Hobson and Leach Streets\, New Plymouth from 10am.
URL:https://taranaki.iwi.nz/event/special-general-meeting-sgm/
LOCATION:Novotel Hotel\, Cnr Hobson and Leach St\, New Plymouth\, Taranaki\, 4310
CATEGORIES:Hui ā-Iwi
ORGANIZER;CN="Te K%C4%81hui o Taranaki":MAILTO:admin@taranaki.iwi.nz
END:VEVENT
BEGIN:VEVENT
DTSTART;TZID=Pacific/Auckland:20201006T183000
DTEND;TZID=Pacific/Auckland:20201006T203000
DTSTAMP:20260426T042719
CREATED:20200910T025301Z
LAST-MODIFIED:20200910T025301Z
UID:3272-1602009000-1602016200@taranaki.iwi.nz
SUMMARY:Te Kāhui Taiohi o Taranaki Iwi 'virtual' wānanga
DESCRIPTION:
URL:https://taranaki.iwi.nz/event/te-kahui-taiohi-o-taranaki-iwi-virtual-wananga/
CATEGORIES:Te Kāhui Taiohi o Taranaki Iwi
END:VEVENT
END:VCALENDAR