BEGIN:VCALENDAR
VERSION:2.0
PRODID:-//Te Kāhui o Taranaki Iwi - ECPv6.10.1.1//NONSGML v1.0//EN
CALSCALE:GREGORIAN
METHOD:PUBLISH
X-WR-CALNAME:Te Kāhui o Taranaki Iwi
X-ORIGINAL-URL:https://taranaki.iwi.nz
X-WR-CALDESC:Events for Te Kāhui o Taranaki Iwi
REFRESH-INTERVAL;VALUE=DURATION:PT1H
X-Robots-Tag:noindex
X-PUBLISHED-TTL:PT1H
BEGIN:VTIMEZONE
TZID:UTC
BEGIN:STANDARD
TZOFFSETFROM:+0000
TZOFFSETTO:+0000
TZNAME:UTC
DTSTART:20170101T000000
END:STANDARD
END:VTIMEZONE
BEGIN:VEVENT
DTSTART;TZID=UTC:20180217T160000
DTEND;TZID=UTC:20180217T193000
DTSTAMP:20260426T034723
CREATED:20180124T230302Z
LAST-MODIFIED:20180213T134609Z
UID:1844-1518883200-1518895800@taranaki.iwi.nz
SUMMARY:Taranaki Iwi Tiripoua
DESCRIPTION:A celebration to mark the One Year Anniversary of our settlement. \nLOTS OF FUN ACTIVITIES FOR THE WHĀNAU!\nBouncy castle\, kemu Māori\, Amazing Race\, LIVE music and BBQ \nWHAT TO BRING?\nSnacks\, picnic blanket\, towel\, togs\, drink bottle\, sunscreen & hat \n  \nWhakatau/karakia – 4.00pm\nMain kai provided – 5.30pm \nFor more information please contact the office on 06 751 4285 – Office hours: 9.00am-5.00pm Mon-Fri
URL:https://taranaki.iwi.nz/event/taranaki-iwi-tiripoua/
LOCATION:Corbett Park\, Oākura\, 1084 South Road\, SH45\, Oākura\, Taranaki\, New Zealand
CATEGORIES:Event,Taranaki Iwi Celebration
ATTACH;FMTTYPE=image/png:https://taranaki.iwi.nz/wp-content/uploads/2018/01/A4-Flyer-Tiripoua-lo-res.png
ORGANIZER;CN="Te K%C4%81hui o Taranaki":MAILTO:admin@taranaki.iwi.nz
END:VEVENT
BEGIN:VEVENT
DTSTART;TZID=UTC:20171202T100000
DTEND;TZID=UTC:20171203T150000
DTSTAMP:20260426T034723
CREATED:20171122T133538Z
LAST-MODIFIED:20171122T133816Z
UID:1529-1512208800-1512313200@taranaki.iwi.nz
SUMMARY:Te Kāhui Taiohi o Taranaki Wānanga
DESCRIPTION:Te Kāhui Taiohi o Taranaki Wānanga\n2-3 December 2017 Puniho Pā\, South Road\, Warea\nWhat\nTaiohi wānanga to strengthen our whanaungatanga as Taranaki Iwi including wānanga reo\, waiata\, poi\, mau rakau\, hīkoi \nWho\nTaranaki Iwi Taiohi aged 16 – 40 \nWhen\nPowhiri 10:00am Saturday 2 Dec – 3:00pm Sunday 3 December 2017 \nWhere\nTarawainuku Marae\, Puniho Pā\, South Road\, RD 37\, Warea \nCost\nThere is NO cost to attend \nRegistration\nIf you would like to attend please contact Angie Walters on 06 7514285 or email angie@taranaki.iwi.nz. You can also download our Registration Form below\, complete it and send it into us. \nDownload a Registration Pack HERE. \nWe are also asking that if you would like to attend that you download and complete our Medical Disclosure form and send it in with your Registration. Download the Medical Disclosure HERE.
URL:https://taranaki.iwi.nz/event/te-kahui-taiohi-o-taranaki-wananga/
LOCATION:Novotel\, New Plymouth\, Corner of Hobson &\, Leach St\, New Plymouth\, New Zealand\, 4312\, New Zealand
CATEGORIES:Te Kāhui Taiohi o Taranaki,Wānanga
ORGANIZER;CN="Te K%C4%81hui o Taranaki":MAILTO:admin@taranaki.iwi.nz
END:VEVENT
END:VCALENDAR