BEGIN:VCALENDAR
VERSION:2.0
PRODID:-//Te Kāhui o Taranaki Iwi - ECPv6.10.1.1//NONSGML v1.0//EN
CALSCALE:GREGORIAN
METHOD:PUBLISH
X-WR-CALNAME:Te Kāhui o Taranaki Iwi
X-ORIGINAL-URL:https://taranaki.iwi.nz
X-WR-CALDESC:Events for Te Kāhui o Taranaki Iwi
REFRESH-INTERVAL;VALUE=DURATION:PT1H
X-Robots-Tag:noindex
X-PUBLISHED-TTL:PT1H
BEGIN:VTIMEZONE
TZID:Pacific/Auckland
BEGIN:STANDARD
TZOFFSETFROM:+1300
TZOFFSETTO:+1200
TZNAME:NZST
DTSTART:20190406T140000
END:STANDARD
BEGIN:DAYLIGHT
TZOFFSETFROM:+1200
TZOFFSETTO:+1300
TZNAME:NZDT
DTSTART:20190928T140000
END:DAYLIGHT
END:VTIMEZONE
BEGIN:VEVENT
DTSTART;TZID=Pacific/Auckland:20190526T080000
DTEND;TZID=Pacific/Auckland:20190526T160000
DTSTAMP:20260426T122819
CREATED:20190519T023748Z
LAST-MODIFIED:20190523T014342Z
UID:2552-1558857600-1558886400@taranaki.iwi.nz
SUMMARY:Kaitiaki Whenua Toa Taiao for a day!
DESCRIPTION:Kaitiaki Whenua\nToa Taiao for a day! \nSunday 26 May 2019\n8am-4pm \nKaitake\, meeting at Okato at 8.30am \nWho & What:\nJoin Wayne Capper and the Project Taranaki Mounga Team trapping in the Kaitake \nWhy:\nLess predators more restoration and bird song returned to Taranaki Mounga \nHow to register:\nRSVP By Clicking HERE! \n 
URL:https://taranaki.iwi.nz/event/kaitiaki-whenua-toa-taiao-for-a-day/
CATEGORIES:Environment,Event
ATTACH;FMTTYPE=image/png:https://taranaki.iwi.nz/wp-content/uploads/2019/05/kaitiaki-whenua-toa-taiao1.png
END:VEVENT
BEGIN:VEVENT
DTSTART;TZID=Pacific/Auckland:20190526T100000
DTEND;TZID=Pacific/Auckland:20190526T143000
DTSTAMP:20260426T122819
CREATED:20190519T220646Z
LAST-MODIFIED:20190520T013355Z
UID:2561-1558864800-1558881000@taranaki.iwi.nz
SUMMARY:Taranaki Iwi Hui ā-Iwi - 26 May 2019
DESCRIPTION:Taranaki Iwi Hui ā-Iwi\nNau mai haere mai ngā uri o Taranaki Iwi! \nInviting all uri of Taranaki Iwi! \n  \nMay 26 @ 10:00 am – 2:30 pm\nOākura Pā\nState Highway 45\, Oākura \n  \nAgenda \n10am – Strategic Plan update\n11am – Maunga Negotiations\n12.30pm – Lunch\n1pm – Regional Entity\n2.30pm – Updates: Ka Uruora\, Charter Review
URL:https://taranaki.iwi.nz/event/taranaki-iwi-hui-a-iwi-26-may-2019/
LOCATION:Oākura Pā\, State Highway 45\, Oākura\, Taranaki\, New Zealand
CATEGORIES:Event,Hui ā-Iwi
END:VEVENT
END:VCALENDAR