BEGIN:VCALENDAR
VERSION:2.0
PRODID:-//Te Kāhui o Taranaki Iwi - ECPv6.10.1.1//NONSGML v1.0//EN
CALSCALE:GREGORIAN
METHOD:PUBLISH
X-WR-CALNAME:Te Kāhui o Taranaki Iwi
X-ORIGINAL-URL:https://taranaki.iwi.nz
X-WR-CALDESC:Events for Te Kāhui o Taranaki Iwi
REFRESH-INTERVAL;VALUE=DURATION:PT1H
X-Robots-Tag:noindex
X-PUBLISHED-TTL:PT1H
BEGIN:VTIMEZONE
TZID:Pacific/Auckland
BEGIN:STANDARD
TZOFFSETFROM:+1300
TZOFFSETTO:+1200
TZNAME:NZST
DTSTART:20190406T140000
END:STANDARD
BEGIN:DAYLIGHT
TZOFFSETFROM:+1200
TZOFFSETTO:+1300
TZNAME:NZDT
DTSTART:20190928T140000
END:DAYLIGHT
END:VTIMEZONE
BEGIN:VEVENT
DTSTART;TZID=Pacific/Auckland:20190810T100000
DTEND;TZID=Pacific/Auckland:20190810T130000
DTSTAMP:20260426T053127
CREATED:20190708T223526Z
LAST-MODIFIED:20190708T234429Z
UID:2654-1565431200-1565442000@taranaki.iwi.nz
SUMMARY:Trust Charter and Strategic Plan Review Hui - Dunedin
DESCRIPTION:
URL:https://taranaki.iwi.nz/event/trust-charter-and-strategic-plan-review-hui-dunedin/
LOCATION:Dunedin Airport\, 25 Miller Rd\, Momona\, Dunedin\, Otago\, 9073\, New Zealand
CATEGORIES:Event
ORGANIZER;CN="Te K%C4%81hui o Taranaki":MAILTO:admin@taranaki.iwi.nz
END:VEVENT
BEGIN:VEVENT
DTSTART;TZID=Pacific/Auckland:20190811T100000
DTEND;TZID=Pacific/Auckland:20190811T130000
DTSTAMP:20260426T053127
CREATED:20190708T223734Z
LAST-MODIFIED:20190708T224141Z
UID:2657-1565517600-1565528400@taranaki.iwi.nz
SUMMARY:Trust Charter and Strategic Plan Review Hui - Lower Hutt
DESCRIPTION:
URL:https://taranaki.iwi.nz/event/trust-charter-and-strategic-plan-review-hui-lower-hutt/
LOCATION:Te Tatau o te Pō\, 437 Hutt Rd\, Lower Hutt\, Wellington\, 5010\, New Zealand
CATEGORIES:Event
ORGANIZER;CN="Te K%C4%81hui o Taranaki":MAILTO:admin@taranaki.iwi.nz
END:VEVENT
BEGIN:VEVENT
DTSTART;TZID=Pacific/Auckland:20190820T040000
DTEND;TZID=Pacific/Auckland:20190821T150000
DTSTAMP:20260426T053127
CREATED:20190731T074152Z
LAST-MODIFIED:20190731T075144Z
UID:2745-1566273600-1566399600@taranaki.iwi.nz
SUMMARY:Koroneihana - 20-21 August 2019
DESCRIPTION:Kia ora koutou katoa. \nKia kotahi te tū o Taranaki maunga ki mua i te aroaro o tō tātou Kīngi Tuheitia Potatau Te Wherowhero te Tuawhitu kia tau ngā manaakitanga ki runga i a ia me Te Kāhui Ariki. Tīhei mauriora! \nHere are the travel plans and programme for the upcoming Koroneihana 2019. It will depend on numbers as to whether we take a bus or vans. Please RSVP to Marama Witehira marama@taranaki.iwi.nz or phone (06) 751 4285 to confirm both travel and accommodation. \n\nNgā Iwi o Taranaki Travel\nTue 20 Aug\n4am – Buses leave Owae Marae\n9am – Kawe mate o te motu\nAccommodation booked for 80 – 100\nWed 21 Aug\n3pm Buses return after hakari\n\nFor Taranaki Iwi travel accommodation contact Marama Witehira – marama@taranaki.iwi.nz\n\nMain Programme\nSaturday 17th Aug\n9am Koroneihana Sports Festival (Paterson Park)\n9am Ngā Kapa Haka o te Motu (Marae Atea)\nSunday 18th Aug\n9am Koroneihana Sports Festival (Paterson Park)\n10am Karakia o te Rātapu\n11am Ngā Kapa Haka o te Motu\nMonday 19th Mon Aug\n9am Ngā Kawe Mate o Tainui\nTuesday 20th Aug\n9am Ngā Kawe Mate o te Motu\nWednesday 21st Aug\n10am Te Karakia hei whakanui i te Koroneihana Tuangāhuru mā toru o Kīngi Tuheitia Pōtatau Te Wherowhero Vll
URL:https://taranaki.iwi.nz/event/koroneihana/
LOCATION:turangawaewae\, 29 River Rd\, Ngaruawahia\, New Zealand
CATEGORIES:Koroneihana
ORGANIZER;CN="Te K%C4%81hui o Taranaki":MAILTO:admin@taranaki.iwi.nz
END:VEVENT
BEGIN:VEVENT
DTSTART;TZID=Pacific/Auckland:20190824T080000
DTEND;TZID=Pacific/Auckland:20190825T170000
DTSTAMP:20260426T053127
CREATED:20190617T223638Z
LAST-MODIFIED:20190617T223638Z
UID:2604-1566633600-1566752400@taranaki.iwi.nz
SUMMARY:Te Moungaroa - Taranaki Iwi Kapa Haka - Wānanga 24-25 August 2019
DESCRIPTION:Te Moungaroa – Taranaki Iwi Kapa Haka wānanga for Tū Mai Campaign 2019 \nNoho marae at Oākura Pā – 24-25 August 2019 \nFor more info contact Puna Wano-Bryant at puna@taranaki.iwi.nz
URL:https://taranaki.iwi.nz/event/te-moungaroa-taranaki-iwi-kapa-haka-wananga-24-25-august-2019/
LOCATION:Oākura Pā\, State Highway 45\, Oākura\, Taranaki\, New Zealand
CATEGORIES:Te Moungaroa Wānanga
END:VEVENT
BEGIN:VEVENT
DTSTART;TZID=Pacific/Auckland:20190825T100000
DTEND;TZID=Pacific/Auckland:20190825T130000
DTSTAMP:20260426T053127
CREATED:20190708T223842Z
LAST-MODIFIED:20190709T225758Z
UID:2660-1566727200-1566738000@taranaki.iwi.nz
SUMMARY:Trust Charter and Strategic Plan Review Hui - Auckland
DESCRIPTION:
URL:https://taranaki.iwi.nz/event/trust-charter-and-strategic-plan-review-hui-auckland/
LOCATION:Novotel Ellerslie\, 72-112 Green Ln E\, Ellerslie\, Auckland\, Auckland\, 1051\, New Zealand
CATEGORIES:Event
ORGANIZER;CN="Te K%C4%81hui o Taranaki":MAILTO:admin@taranaki.iwi.nz
END:VEVENT
BEGIN:VEVENT
DTSTART;TZID=Pacific/Auckland:20190826T180000
DTEND;TZID=Pacific/Auckland:20190826T210000
DTSTAMP:20260426T053127
CREATED:20190814T055314Z
LAST-MODIFIED:20190814T060042Z
UID:2797-1566842400-1566853200@taranaki.iwi.nz
SUMMARY:Ka Uruora
DESCRIPTION:A new programme is about to be launched that will support iwi members achieve financial independence and improve their financial wellbeing. Ka Uruora will include a range of integrated services on financial education\, a savings scheme and future opportunities to support whanau to enter home ownership.   \nKa Uruora- Savings will be the first kaupapa to be launched and made available to iwi registered members\, http://kauruora.nz/savings/ in partnership with SuperLife\, the scheme provider. \nTe Atiawa and Taranaki Iwi will both support Ka Uruora Savings by providing matched savings contributions to members up to $100. \nFuture services to be delivered under the programme will include financial education and opportunities for housing. \nThe delivery of the Ka Uruora programme will be supported by TSB Community Trust (housing)\, Te Puni Kōkiri (financial education and housing) and Te Tumu Kāinga (housing). \nLaunch details\nDate:	Monday 26 August\nTime:	6pm\nVenue:	Novotel New Plymouth\nRSVP: 	21 August\, 2019 to marama@taranaki.iwi.nz or (06) 751 4285\nNB: Numbers are Limited\, so RSVP’s are essential
URL:https://taranaki.iwi.nz/event/ka-uruora/
LOCATION:Novotel New Plymouth\, Corner of Hobson & Leach St\, New Plymouth\, Taranaki\, 4312
CATEGORIES:Event
ATTACH;FMTTYPE=image/png:https://taranaki.iwi.nz/wp-content/uploads/2019/08/ka-uruora-logo-large1-300x266.png
ORGANIZER;CN="Te K%C4%81hui o Taranaki":MAILTO:admin@taranaki.iwi.nz
END:VEVENT
END:VCALENDAR