BEGIN:VCALENDAR
VERSION:2.0
PRODID:-//Te Kāhui o Taranaki Iwi - ECPv6.10.1.1//NONSGML v1.0//EN
CALSCALE:GREGORIAN
METHOD:PUBLISH
X-ORIGINAL-URL:https://taranaki.iwi.nz
X-WR-CALDESC:Events for Te Kāhui o Taranaki Iwi
REFRESH-INTERVAL;VALUE=DURATION:PT1H
X-Robots-Tag:noindex
X-PUBLISHED-TTL:PT1H
BEGIN:VTIMEZONE
TZID:Pacific/Auckland
BEGIN:STANDARD
TZOFFSETFROM:+1300
TZOFFSETTO:+1200
TZNAME:NZST
DTSTART:20190406T140000
END:STANDARD
BEGIN:DAYLIGHT
TZOFFSETFROM:+1200
TZOFFSETTO:+1300
TZNAME:NZDT
DTSTART:20190928T140000
END:DAYLIGHT
END:VTIMEZONE
BEGIN:VEVENT
DTSTART;TZID=Pacific/Auckland:20190217T120000
DTEND;TZID=Pacific/Auckland:20190217T180000
DTSTAMP:20260425T023247
CREATED:20181126T231111Z
LAST-MODIFIED:20190120T222913Z
UID:2304-1550404800-1550426400@taranaki.iwi.nz
SUMMARY:Taranaki Iwi Tiripoua 2019
DESCRIPTION:A celebration to mark the Anniversary of our settlement \nLots of fun activities for the whānau!\nBouncy castle\, Touch Rugby on the beach\, Kid zone\, Pāhake Zone\, Kēmu Māori\, LIVE music and BBQ. \nWhat to bring?\nSnacks\, picnic blanket\, towel\, togs\, drink bottle\, sunscreen & hat. \nWhakatau/karakia – 1.45pm \nFor further information please contact the office on 06 751 4285 – Office hours: 9.00am-5.00pm Mon-Fri
URL:https://taranaki.iwi.nz/event/taranaki-iwi-tiripoua-2019/
LOCATION:Opunake Beach Campground\, Beach Road\, Opunake\, Taranaki\, 4616\, New Zealand
CATEGORIES:Event,Te Kāhui Taiohi o Taranaki Iwi
ATTACH;FMTTYPE=image/png:https://taranaki.iwi.nz/wp-content/uploads/2019/01/A4-Flyer-Tiripoua-2019-update1-min1.png
END:VEVENT
END:VCALENDAR